BEGIN:VCALENDAR
VERSION:2.0
PRODID:-//Njarðvíkurkirkja - ECPv6.15.20//NONSGML v1.0//EN
CALSCALE:GREGORIAN
METHOD:PUBLISH
X-WR-CALNAME:Njarðvíkurkirkja
X-ORIGINAL-URL:https://njardvikurkirkja.is
X-WR-CALDESC:Events for Njarðvíkurkirkja
REFRESH-INTERVAL;VALUE=DURATION:PT1H
X-Robots-Tag:noindex
X-PUBLISHED-TTL:PT1H
BEGIN:VTIMEZONE
TZID:Europe/London
BEGIN:DAYLIGHT
TZOFFSETFROM:+0000
TZOFFSETTO:+0100
TZNAME:BST
DTSTART:20240331T010000
END:DAYLIGHT
BEGIN:STANDARD
TZOFFSETFROM:+0100
TZOFFSETTO:+0000
TZNAME:GMT
DTSTART:20241027T010000
END:STANDARD
BEGIN:DAYLIGHT
TZOFFSETFROM:+0000
TZOFFSETTO:+0100
TZNAME:BST
DTSTART:20250330T010000
END:DAYLIGHT
BEGIN:STANDARD
TZOFFSETFROM:+0100
TZOFFSETTO:+0000
TZNAME:GMT
DTSTART:20251026T010000
END:STANDARD
BEGIN:DAYLIGHT
TZOFFSETFROM:+0000
TZOFFSETTO:+0100
TZNAME:BST
DTSTART:20260329T010000
END:DAYLIGHT
BEGIN:STANDARD
TZOFFSETFROM:+0100
TZOFFSETTO:+0000
TZNAME:GMT
DTSTART:20261025T010000
END:STANDARD
END:VTIMEZONE
BEGIN:VEVENT
DTSTART;TZID=Europe/London:20250318T080000
DTEND;TZID=Europe/London:20250318T170000
DTSTAMP:20260425T033628
CREATED:20250317T192034Z
LAST-MODIFIED:20250317T192103Z
UID:2094-1742284800-1742317200@njardvikurkirkja.is
SUMMARY:Undirbúningsfundur fyrir fermingar
DESCRIPTION:Foreldrar/forráðafólk mæti ásamt fermingarbörnum. Förum saman yfir fermingarnar í vor.  \n\n\n\n\n\nÖll börnin eiga að skila inn heimaverkefni fyrir fundinn\, verkefnið fyllið þið út rafrænt ogsendið inn fyrir hádegi 18. mars nk. \n\n\n\nHér er hlekkur á verkefnið \n\n\n\nBörnin mega gjarnan vinna verkefnið í samvinnu við ykkur eða aðra úr fjölskyldunni.
URL:https://njardvikurkirkja.is/event/undirbuningsfundur-fyrir-fermingar/
LOCATION:Ytri-Njarðvíkurkirkja\, Brekkustíg 13\, Reykjanesbær\, 260\, Iceland
CATEGORIES:Forsida
ATTACH;FMTTYPE=image/jpeg:https://njardvikurkirkja.is/wp-content/uploads/2025/03/H03.jpg
ORGANIZER;CN="Njar%C3%B0v%C3%ADkurs%C3%B3kn":MAILTO:skrifstofa@njardvikurkirkja.is
END:VEVENT
BEGIN:VEVENT
DTSTART;TZID=Europe/London:20250318T110000
DTEND;TZID=Europe/London:20250318T140000
DTSTAMP:20260425T033628
CREATED:20250317T195856Z
LAST-MODIFIED:20250317T195856Z
UID:2105-1742295600-1742306400@njardvikurkirkja.is
SUMMARY:Vinavoðir
DESCRIPTION:Alla þriðjudaga í safnaðarheimili Ytri-Njarðvíkurkirkju.  \n\n\n\nVinavoðir eru hópur sem prjónar eða heklar bænasjöl sem eru svo gefin út í samfélagið fyrir þau sem þurfa á kærleika og hlýju að halda í sitt líf.Boðið upp á léttan hádegisverð.
URL:https://njardvikurkirkja.is/event/vinavodir/
LOCATION:Ytri-Njarðvíkurkirkja\, Brekkustíg 13\, Reykjanesbær\, 260\, Iceland
CATEGORIES:Forsida
ATTACH;FMTTYPE=image/jpeg:https://njardvikurkirkja.is/wp-content/uploads/2025/03/vinavodir.jpeg
ORGANIZER;CN="Njar%C3%B0v%C3%ADkurs%C3%B3kn":MAILTO:skrifstofa@njardvikurkirkja.is
END:VEVENT
BEGIN:VEVENT
DTSTART;TZID=Europe/London:20250324T110000
DTEND;TZID=Europe/London:20250324T133000
DTSTAMP:20260425T033628
CREATED:20250317T192708Z
LAST-MODIFIED:20250527T154105Z
UID:2098-1742814000-1742823000@njardvikurkirkja.is
SUMMARY:Opið hús
DESCRIPTION: Kominn í sumarfrí  \n\n\n\n Alla mánudaga kl 11:00-13:30 í Safnaðarheimili Innri Njarðvík. \n\n\n\nSpjall\, snarl og helgistund. Öll hjartanlega velkomin!
URL:https://njardvikurkirkja.is/event/opid-hus/
LOCATION:Safnaðarheimili Innri Njarðvík\, Njarðvíkurbraut 36\, Reykjanesbær\, 260\, Iceland
CATEGORIES:Forsida
ATTACH;FMTTYPE=image/jpeg:https://njardvikurkirkja.is/wp-content/uploads/2025/03/SafnadarheimiliNjardvik.jpeg
ORGANIZER;CN="Njar%C3%B0v%C3%ADkurs%C3%B3kn":MAILTO:skrifstofa@njardvikurkirkja.is
END:VEVENT
END:VCALENDAR